BEGIN:VCALENDAR
VERSION:2.0
PRODID:-//Iona Cannabis Clinic Bonita Springs - ECPv6.0.6.2//NONSGML v1.0//EN
CALSCALE:GREGORIAN
METHOD:PUBLISH
X-WR-CALNAME:Iona Cannabis Clinic Bonita Springs
X-ORIGINAL-URL:https://iccbonitasprings.com
X-WR-CALDESC:Events for Iona Cannabis Clinic Bonita Springs
REFRESH-INTERVAL;VALUE=DURATION:PT1H
X-Robots-Tag:noindex
X-PUBLISHED-TTL:PT1H
BEGIN:VTIMEZONE
TZID:America/Halifax
BEGIN:DAYLIGHT
TZOFFSETFROM:-0400
TZOFFSETTO:-0300
TZNAME:ADT
DTSTART:20200308T060000
END:DAYLIGHT
BEGIN:STANDARD
TZOFFSETFROM:-0300
TZOFFSETTO:-0400
TZNAME:AST
DTSTART:20201101T050000
END:STANDARD
BEGIN:DAYLIGHT
TZOFFSETFROM:-0400
TZOFFSETTO:-0300
TZNAME:ADT
DTSTART:20210314T060000
END:DAYLIGHT
BEGIN:STANDARD
TZOFFSETFROM:-0300
TZOFFSETTO:-0400
TZNAME:AST
DTSTART:20211107T050000
END:STANDARD
END:VTIMEZONE
BEGIN:VEVENT
DTSTART;TZID=America/Halifax:20210104T090000
DTEND;TZID=America/Halifax:20210104T160000
DTSTAMP:20260420T043704
CREATED:20210204T063542Z
LAST-MODIFIED:20210204T063542Z
UID:6869-1609750800-1609776000@iccbonitasprings.com
SUMMARY:7 Month Follow Up's
DESCRIPTION:Please note ALL Patients are required by the State to see their physician every 7 months for a follow up visit in order to keep their certification and prescriptions. \nWalk-ins are available on marked follow up days between 9am and 4pm
URL:https://iccbonitasprings.com/event/7-month-follow-ups-31/
CATEGORIES:Events
ATTACH;FMTTYPE=:
END:VEVENT
BEGIN:VEVENT
DTSTART;TZID=America/Halifax:20201221T090000
DTEND;TZID=America/Halifax:20201221T160000
DTSTAMP:20260420T043704
CREATED:20190730T091003Z
LAST-MODIFIED:20190730T091003Z
UID:4888-1608541200-1608566400@iccbonitasprings.com
SUMMARY:7 Month Follow Up's
DESCRIPTION:Please note ALL Patients are required by the State to see their physician every 7 months for a follow up visit in order to keep their certification and prescriptions. \nWalk-ins are available on marked follow up days between 9am and 4pm
URL:https://iccbonitasprings.com/event/7-month-follow-ups-116/
CATEGORIES:Events
ATTACH;FMTTYPE=:
END:VEVENT
BEGIN:VEVENT
DTSTART;TZID=America/Halifax:20201217T090000
DTEND;TZID=America/Halifax:20201217T160000
DTSTAMP:20260420T043704
CREATED:20190730T090940Z
LAST-MODIFIED:20190730T090940Z
UID:4878-1608195600-1608220800@iccbonitasprings.com
SUMMARY:7 Month Follow Up's
DESCRIPTION:Please note ALL Patients are required by the State to see their physician every 7 months for a follow up visit in order to keep their certification and prescriptions. \nWalk-ins are available on marked follow up days between 9am and 4pm
URL:https://iccbonitasprings.com/event/7-month-follow-ups-115/
CATEGORIES:Events
ATTACH;FMTTYPE=:
END:VEVENT
BEGIN:VEVENT
DTSTART;TZID=America/Halifax:20201209T090000
DTEND;TZID=America/Halifax:20201209T160000
DTSTAMP:20260420T043704
CREATED:20190730T090915Z
LAST-MODIFIED:20190730T090915Z
UID:4868-1607504400-1607529600@iccbonitasprings.com
SUMMARY:7 Month Follow Up's
DESCRIPTION:Please note ALL Patients are required by the State to see their physician every 7 months for a follow up visit in order to keep their certification and prescriptions. \nWalk-ins are available on marked follow up days between 9am and 4pm
URL:https://iccbonitasprings.com/event/7-month-follow-ups-114/
CATEGORIES:Events
ATTACH;FMTTYPE=:
END:VEVENT
BEGIN:VEVENT
DTSTART;TZID=America/Halifax:20201201T090000
DTEND;TZID=America/Halifax:20201201T160000
DTSTAMP:20260420T043704
CREATED:20190730T090854Z
LAST-MODIFIED:20190730T090854Z
UID:4858-1606813200-1606838400@iccbonitasprings.com
SUMMARY:7 Month Follow Up's
DESCRIPTION:Please note ALL Patients are required by the State to see their physician every 7 months for a follow up visit in order to keep their certification and prescriptions. \nWalk-ins are available on marked follow up days between 9am and 4pm
URL:https://iccbonitasprings.com/event/7-month-follow-ups-113/
CATEGORIES:Events
ATTACH;FMTTYPE=:
END:VEVENT
BEGIN:VEVENT
DTSTART;TZID=America/Halifax:20201124T090000
DTEND;TZID=America/Halifax:20201124T160000
DTSTAMP:20260420T043704
CREATED:20190730T090820Z
LAST-MODIFIED:20190730T090820Z
UID:4848-1606208400-1606233600@iccbonitasprings.com
SUMMARY:7 Month Follow Up's
DESCRIPTION:Please note ALL Patients are required by the State to see their physician every 7 months for a follow up visit in order to keep their certification and prescriptions. \nWalk-ins are available on marked follow up days between 9am and 4pm
URL:https://iccbonitasprings.com/event/7-month-follow-ups-112/
CATEGORIES:Events
ATTACH;FMTTYPE=:
END:VEVENT
BEGIN:VEVENT
DTSTART;TZID=America/Halifax:20201118T090000
DTEND;TZID=America/Halifax:20201118T160000
DTSTAMP:20260420T043704
CREATED:20190730T090753Z
LAST-MODIFIED:20190730T090753Z
UID:4838-1605690000-1605715200@iccbonitasprings.com
SUMMARY:7 Month Follow Up's
DESCRIPTION:Please note ALL Patients are required by the State to see their physician every 7 months for a follow up visit in order to keep their certification and prescriptions. \nWalk-ins are available on marked follow up days between 9am and 4pm
URL:https://iccbonitasprings.com/event/7-month-follow-ups-111/
CATEGORIES:Events
ATTACH;FMTTYPE=:
END:VEVENT
BEGIN:VEVENT
DTSTART;TZID=America/Halifax:20201110T090000
DTEND;TZID=America/Halifax:20201110T160000
DTSTAMP:20260420T043704
CREATED:20190730T090703Z
LAST-MODIFIED:20190730T090703Z
UID:4823-1604998800-1605024000@iccbonitasprings.com
SUMMARY:7 Month Follow Up's
DESCRIPTION:Please note ALL Patients are required by the State to see their physician every 7 months for a follow up visit in order to keep their certification and prescriptions. \nWalk-ins are available on marked follow up days between 9am and 4pm
URL:https://iccbonitasprings.com/event/7-month-follow-ups-110/
CATEGORIES:Events
ATTACH;FMTTYPE=:
END:VEVENT
BEGIN:VEVENT
DTSTART;TZID=America/Halifax:20201102T090000
DTEND;TZID=America/Halifax:20201102T160000
DTSTAMP:20260420T043704
CREATED:20190730T090629Z
LAST-MODIFIED:20190730T090629Z
UID:4813-1604307600-1604332800@iccbonitasprings.com
SUMMARY:7 Month Follow Up's
DESCRIPTION:Please note ALL Patients are required by the State to see their physician every 7 months for a follow up visit in order to keep their certification and prescriptions. \nWalk-ins are available on marked follow up days between 9am and 4pm
URL:https://iccbonitasprings.com/event/7-month-follow-ups-109/
CATEGORIES:Events
ATTACH;FMTTYPE=:
END:VEVENT
BEGIN:VEVENT
DTSTART;TZID=America/Halifax:20201028T090000
DTEND;TZID=America/Halifax:20201028T160000
DTSTAMP:20260420T043704
CREATED:20190730T090506Z
LAST-MODIFIED:20190730T090506Z
UID:4803-1603875600-1603900800@iccbonitasprings.com
SUMMARY:7 Month Follow Up's
DESCRIPTION:Please note ALL Patients are required by the State to see their physician every 7 months for a follow up visit in order to keep their certification and prescriptions. \nWalk-ins are available on marked follow up days between 9am and 4pm
URL:https://iccbonitasprings.com/event/7-month-follow-ups-108/
CATEGORIES:Events
ATTACH;FMTTYPE=:
END:VEVENT
BEGIN:VEVENT
DTSTART;TZID=America/Halifax:20201022T090000
DTEND;TZID=America/Halifax:20201022T160000
DTSTAMP:20260420T043704
CREATED:20190730T090442Z
LAST-MODIFIED:20190730T090442Z
UID:4793-1603357200-1603382400@iccbonitasprings.com
SUMMARY:7 Month Follow Up's
DESCRIPTION:Please note ALL Patients are required by the State to see their physician every 7 months for a follow up visit in order to keep their certification and prescriptions. \nWalk-ins are available on marked follow up days between 9am and 4pm
URL:https://iccbonitasprings.com/event/7-month-follow-ups-107/
CATEGORIES:Events
ATTACH;FMTTYPE=:
END:VEVENT
BEGIN:VEVENT
DTSTART;TZID=America/Halifax:20201014T090000
DTEND;TZID=America/Halifax:20201014T160000
DTSTAMP:20260420T043704
CREATED:20190730T090419Z
LAST-MODIFIED:20190730T090419Z
UID:4783-1602666000-1602691200@iccbonitasprings.com
SUMMARY:7 Month Follow Up's
DESCRIPTION:Please note ALL Patients are required by the State to see their physician every 7 months for a follow up visit in order to keep their certification and prescriptions. \nWalk-ins are available on marked follow up days between 9am and 4pm
URL:https://iccbonitasprings.com/event/7-month-follow-ups-106/
CATEGORIES:Events
ATTACH;FMTTYPE=:
END:VEVENT
BEGIN:VEVENT
DTSTART;TZID=America/Halifax:20201006T090000
DTEND;TZID=America/Halifax:20201006T160000
DTSTAMP:20260420T043704
CREATED:20190730T090356Z
LAST-MODIFIED:20190730T090356Z
UID:4773-1601974800-1602000000@iccbonitasprings.com
SUMMARY:7 Month Follow Up's
DESCRIPTION:Please note ALL Patients are required by the State to see their physician every 7 months for a follow up visit in order to keep their certification and prescriptions. \nWalk-ins are available on marked follow up days between 9am and 4pm
URL:https://iccbonitasprings.com/event/7-month-follow-ups-105/
CATEGORIES:Events
ATTACH;FMTTYPE=:
END:VEVENT
BEGIN:VEVENT
DTSTART;TZID=America/Halifax:20200930T090000
DTEND;TZID=America/Halifax:20200930T160000
DTSTAMP:20260420T043704
CREATED:20190730T090307Z
LAST-MODIFIED:20190730T090307Z
UID:4763-1601456400-1601481600@iccbonitasprings.com
SUMMARY:7 Month Follow Up's
DESCRIPTION:Please note ALL Patients are required by the State to see their physician every 7 months for a follow up visit in order to keep their certification and prescriptions. \nWalk-ins are available on marked follow up days between 9am and 4pm
URL:https://iccbonitasprings.com/event/7-month-follow-ups-104/
CATEGORIES:Events
ATTACH;FMTTYPE=:
END:VEVENT
BEGIN:VEVENT
DTSTART;TZID=America/Halifax:20200922T090000
DTEND;TZID=America/Halifax:20200922T160000
DTSTAMP:20260420T043704
CREATED:20190730T090212Z
LAST-MODIFIED:20190730T090212Z
UID:4753-1600765200-1600790400@iccbonitasprings.com
SUMMARY:7 Month Follow Up's
DESCRIPTION:Please note ALL Patients are required by the State to see their physician every 7 months for a follow up visit in order to keep their certification and prescriptions. \nWalk-ins are available on marked follow up days between 9am and 4pm
URL:https://iccbonitasprings.com/event/7-month-follow-ups-103/
CATEGORIES:Events
ATTACH;FMTTYPE=:
END:VEVENT
BEGIN:VEVENT
DTSTART;TZID=America/Halifax:20200914T090000
DTEND;TZID=America/Halifax:20200914T160000
DTSTAMP:20260420T043704
CREATED:20190730T090148Z
LAST-MODIFIED:20190730T090148Z
UID:4743-1600074000-1600099200@iccbonitasprings.com
SUMMARY:7 Month Follow Up's
DESCRIPTION:Please note ALL Patients are required by the State to see their physician every 7 months for a follow up visit in order to keep their certification and prescriptions. \nWalk-ins are available on marked follow up days between 9am and 4pm
URL:https://iccbonitasprings.com/event/7-month-follow-ups-102/
CATEGORIES:Events
ATTACH;FMTTYPE=:
END:VEVENT
BEGIN:VEVENT
DTSTART;TZID=America/Halifax:20200910T090000
DTEND;TZID=America/Halifax:20200910T160000
DTSTAMP:20260420T043704
CREATED:20190730T090123Z
LAST-MODIFIED:20190730T090123Z
UID:4733-1599728400-1599753600@iccbonitasprings.com
SUMMARY:7 Month Follow Up's
DESCRIPTION:Please note ALL Patients are required by the State to see their physician every 7 months for a follow up visit in order to keep their certification and prescriptions. \nWalk-ins are available on marked follow up days between 9am and 4pm
URL:https://iccbonitasprings.com/event/7-month-follow-ups-101/
CATEGORIES:Events
ATTACH;FMTTYPE=:
END:VEVENT
BEGIN:VEVENT
DTSTART;TZID=America/Halifax:20200902T090000
DTEND;TZID=America/Halifax:20200902T160000
DTSTAMP:20260420T043704
CREATED:20190730T090053Z
LAST-MODIFIED:20190730T090053Z
UID:4723-1599037200-1599062400@iccbonitasprings.com
SUMMARY:7 Month Follow Up's
DESCRIPTION:Please note ALL Patients are required by the State to see their physician every 7 months for a follow up visit in order to keep their certification and prescriptions. \nWalk-ins are available on marked follow up days between 9am and 4pm
URL:https://iccbonitasprings.com/event/7-month-follow-ups-100/
CATEGORIES:Events
ATTACH;FMTTYPE=:
END:VEVENT
BEGIN:VEVENT
DTSTART;TZID=America/Halifax:20200827T090000
DTEND;TZID=America/Halifax:20200827T160000
DTSTAMP:20260420T043704
CREATED:20190730T085158Z
LAST-MODIFIED:20190730T085158Z
UID:4713-1598518800-1598544000@iccbonitasprings.com
SUMMARY:7 Month Follow Up's
DESCRIPTION:Please note ALL Patients are required by the State to see their physician every 7 months for a follow up visit in order to keep their certification and prescriptions. \nWalk-ins are available on marked follow up days between 9am and 4pm
URL:https://iccbonitasprings.com/event/7-month-follow-ups-99/
CATEGORIES:Events
ATTACH;FMTTYPE=:
END:VEVENT
BEGIN:VEVENT
DTSTART;TZID=America/Halifax:20200819T090000
DTEND;TZID=America/Halifax:20200819T160000
DTSTAMP:20260420T043704
CREATED:20190730T085139Z
LAST-MODIFIED:20190730T085139Z
UID:4703-1597827600-1597852800@iccbonitasprings.com
SUMMARY:7 Month Follow Up's
DESCRIPTION:Please note ALL Patients are required by the State to see their physician every 7 months for a follow up visit in order to keep their certification and prescriptions. \nWalk-ins are available on marked follow up days between 9am and 4pm
URL:https://iccbonitasprings.com/event/7-month-follow-ups-98/
CATEGORIES:Events
ATTACH;FMTTYPE=:
END:VEVENT
BEGIN:VEVENT
DTSTART;TZID=America/Halifax:20200811T090000
DTEND;TZID=America/Halifax:20200811T160000
DTSTAMP:20260420T043704
CREATED:20190730T085112Z
LAST-MODIFIED:20190730T085112Z
UID:4693-1597136400-1597161600@iccbonitasprings.com
SUMMARY:7 Month Follow Up's
DESCRIPTION:Please note ALL Patients are required by the State to see their physician every 7 months for a follow up visit in order to keep their certification and prescriptions. \nWalk-ins are available on marked follow up days between 9am and 4pm
URL:https://iccbonitasprings.com/event/7-month-follow-ups-97/
CATEGORIES:Events
ATTACH;FMTTYPE=:
END:VEVENT
BEGIN:VEVENT
DTSTART;TZID=America/Halifax:20200803T090000
DTEND;TZID=America/Halifax:20200803T160000
DTSTAMP:20260420T043704
CREATED:20190730T085038Z
LAST-MODIFIED:20190730T085038Z
UID:4683-1596445200-1596470400@iccbonitasprings.com
SUMMARY:7 Month Follow Up's
DESCRIPTION:Please note ALL Patients are required by the State to see their physician every 7 months for a follow up visit in order to keep their certification and prescriptions. \nWalk-ins are available on marked follow up days between 9am and 4pm
URL:https://iccbonitasprings.com/event/7-month-follow-ups-96/
CATEGORIES:Events
ATTACH;FMTTYPE=:
END:VEVENT
BEGIN:VEVENT
DTSTART;TZID=America/Halifax:20200729T090000
DTEND;TZID=America/Halifax:20200729T160000
DTSTAMP:20260420T043705
CREATED:20190730T085001Z
LAST-MODIFIED:20190730T085001Z
UID:4668-1596013200-1596038400@iccbonitasprings.com
SUMMARY:7 Month Follow Up's
DESCRIPTION:Please note ALL Patients are required by the State to see their physician every 7 months for a follow up visit in order to keep their certification and prescriptions. \nWalk-ins are available on marked follow up days between 9am and 4pm
URL:https://iccbonitasprings.com/event/7-month-follow-ups-95/
CATEGORIES:Events
ATTACH;FMTTYPE=:
END:VEVENT
BEGIN:VEVENT
DTSTART;TZID=America/Halifax:20200723T090000
DTEND;TZID=America/Halifax:20200723T160000
DTSTAMP:20260420T043705
CREATED:20190730T084936Z
LAST-MODIFIED:20190730T084936Z
UID:4658-1595494800-1595520000@iccbonitasprings.com
SUMMARY:7 Month Follow Up's
DESCRIPTION:Please note ALL Patients are required by the State to see their physician every 7 months for a follow up visit in order to keep their certification and prescriptions. \nWalk-ins are available on marked follow up days between 9am and 4pm
URL:https://iccbonitasprings.com/event/7-month-follow-ups-94/
CATEGORIES:Events
ATTACH;FMTTYPE=:
END:VEVENT
BEGIN:VEVENT
DTSTART;TZID=America/Halifax:20200715T090000
DTEND;TZID=America/Halifax:20200715T160000
DTSTAMP:20260420T043705
CREATED:20190730T084911Z
LAST-MODIFIED:20190730T084911Z
UID:4648-1594803600-1594828800@iccbonitasprings.com
SUMMARY:7 Month Follow Up's
DESCRIPTION:Please note ALL Patients are required by the State to see their physician every 7 months for a follow up visit in order to keep their certification and prescriptions. \nWalk-ins are available on marked follow up days between 9am and 4pm
URL:https://iccbonitasprings.com/event/7-month-follow-ups-93/
CATEGORIES:Events
ATTACH;FMTTYPE=:
END:VEVENT
BEGIN:VEVENT
DTSTART;TZID=America/Halifax:20200707T090000
DTEND;TZID=America/Halifax:20200707T160000
DTSTAMP:20260420T043705
CREATED:20190730T084840Z
LAST-MODIFIED:20190730T084840Z
UID:4638-1594112400-1594137600@iccbonitasprings.com
SUMMARY:7 Month Follow Up's
DESCRIPTION:Please note ALL Patients are required by the State to see their physician every 7 months for a follow up visit in order to keep their certification and prescriptions. \nWalk-ins are available on marked follow up days between 9am and 4pm
URL:https://iccbonitasprings.com/event/7-month-follow-ups-92/
CATEGORIES:Events
ATTACH;FMTTYPE=:
END:VEVENT
BEGIN:VEVENT
DTSTART;TZID=America/Halifax:20200701T090000
DTEND;TZID=America/Halifax:20200701T160000
DTSTAMP:20260420T043705
CREATED:20190730T084817Z
LAST-MODIFIED:20190730T084817Z
UID:4628-1593594000-1593619200@iccbonitasprings.com
SUMMARY:7 Month Follow Up's
DESCRIPTION:Please note ALL Patients are required by the State to see their physician every 7 months for a follow up visit in order to keep their certification and prescriptions. \nWalk-ins are available on marked follow up days between 9am and 4pm
URL:https://iccbonitasprings.com/event/7-month-follow-ups-91/
CATEGORIES:Events
ATTACH;FMTTYPE=:
END:VEVENT
BEGIN:VEVENT
DTSTART;TZID=America/Halifax:20200625T090000
DTEND;TZID=America/Halifax:20200625T160000
DTSTAMP:20260420T043705
CREATED:20190730T084739Z
LAST-MODIFIED:20190730T084739Z
UID:4618-1593075600-1593100800@iccbonitasprings.com
SUMMARY:7 Month Follow Up's
DESCRIPTION:Please note ALL Patients are required by the State to see their physician every 7 months for a follow up visit in order to keep their certification and prescriptions. \nWalk-ins are available on marked follow up days between 9am and 4pm
URL:https://iccbonitasprings.com/event/7-month-follow-ups-90/
CATEGORIES:Events
ATTACH;FMTTYPE=:
END:VEVENT
BEGIN:VEVENT
DTSTART;TZID=America/Halifax:20200617T090000
DTEND;TZID=America/Halifax:20200617T160000
DTSTAMP:20260420T043705
CREATED:20190730T084717Z
LAST-MODIFIED:20190730T084717Z
UID:4608-1592384400-1592409600@iccbonitasprings.com
SUMMARY:7 Month Follow Up's
DESCRIPTION:Please note ALL Patients are required by the State to see their physician every 7 months for a follow up visit in order to keep their certification and prescriptions. \nWalk-ins are available on marked follow up days between 9am and 4pm
URL:https://iccbonitasprings.com/event/7-month-follow-ups-89/
CATEGORIES:Events
ATTACH;FMTTYPE=:
END:VEVENT
BEGIN:VEVENT
DTSTART;TZID=America/Halifax:20200609T090000
DTEND;TZID=America/Halifax:20200609T160000
DTSTAMP:20260420T043705
CREATED:20190730T084554Z
LAST-MODIFIED:20190730T084554Z
UID:4598-1591693200-1591718400@iccbonitasprings.com
SUMMARY:7 Month Follow Up's
DESCRIPTION:Please note ALL Patients are required by the State to see their physician every 7 months for a follow up visit in order to keep their certification and prescriptions. \nWalk-ins are available on marked follow up days between 9am and 4pm
URL:https://iccbonitasprings.com/event/7-month-follow-ups-88/
CATEGORIES:Events
ATTACH;FMTTYPE=:
END:VEVENT
END:VCALENDAR